BEGIN:VCALENDAR
VERSION:2.0
PRODID:-//Squarespace Inc/Squarespace 6//v6//EN
BEGIN:VEVENT
UID:5b4d54b570a6adb7c483e270@squarespace.com
DTSTAMP:20180717T035715Z
DTSTART:20180919T053000Z
DTEND:20180919T083000Z
SUMMARY:Suffrage 125
GEO:-37.787019;175.283838
LOCATION:SKYCITY Hamilton\, 346 Victoria Street\, Hamilton\, New Zealand
END:VEVENT
END:VCALENDAR
