BEGIN:VCALENDAR
VERSION:2.0
PRODID:-//Squarespace Inc/Squarespace 6//v6//EN
BEGIN:VEVENT
UID:5b306d9b03ce6498ad629da5@squarespace.com
DTSTAMP:20180913T205434Z
DTSTART:20180731T043000Z
DTEND:20180911T063000Z
SUMMARY:Motivate 2018
GEO:39.401775;-84.559516
LOCATION:YWCA of Hamilton
END:VEVENT
END:VCALENDAR
