BEGIN:VCALENDAR
VERSION:2.0
PRODID:-//Squarespace Inc/Squarespace 6//v6//EN
BEGIN:VEVENT
UID:5b187f30562fa7c61bde2b99@squarespace.com
DTSTAMP:20180607T004744Z
DTSTART:20180717T070000Z
DTEND:20180717T090000Z
SUMMARY:Healthy Cooking on a Budget
GEO:-37.786861;175.318458
LOCATION:Waikato University
END:VEVENT
END:VCALENDAR
