BEGIN:VCALENDAR
VERSION:2.0
PRODID:-//Squarespace Inc/Squarespace 6//v6//EN
BEGIN:VEVENT
UID:5b469b6503ce64cc88c94eed@squarespace.com
DTSTAMP:20180712T001330Z
DTSTART:20180715T010000Z
DTEND:20180715T040000Z
SUMMARY:Self Defence Course
GEO:39.401775;-84.559516
LOCATION:YWCA of Hamilton
END:VEVENT
END:VCALENDAR
