BEGIN:VCALENDAR
VERSION:2.0
PRODID:-//Squarespace Inc/Squarespace 6//v6//EN
BEGIN:VEVENT
UID:5b469d2a03ce64cc88c995e0@squarespace.com
DTSTAMP:20180712T001357Z
DTSTART:20180909T010000Z
DTEND:20180909T040000Z
SUMMARY:Self Defence Course
GEO:39.401775;-84.559516
LOCATION:YWCA of Hamilton
END:VEVENT
END:VCALENDAR
