BEGIN:VCALENDAR
VERSION:2.0
PRODID:-//Squarespace Inc/Squarespace 6//v6//EN
BEGIN:VEVENT
UID:5b5e576470a6addd33e78a89@squarespace.com
DTSTAMP:20180923T231038Z
DTSTART:20181001T233000Z
DTEND:20181004T003000Z
SUMMARY:Ignite Programme
GEO:39.401775;-84.559516
LOCATION:YWCA of Hamilton
END:VEVENT
END:VCALENDAR
